BEGIN:VCALENDAR
VERSION:2.0
PRODID:-//Vinni vald - ECPv6.15.20//NONSGML v1.0//EN
CALSCALE:GREGORIAN
METHOD:PUBLISH
X-ORIGINAL-URL:https://vinnivald.ee
X-WR-CALDESC:Events for Vinni vald
REFRESH-INTERVAL;VALUE=DURATION:PT1H
X-Robots-Tag:noindex
X-PUBLISHED-TTL:PT1H
BEGIN:VTIMEZONE
TZID:Europe/Tallinn
BEGIN:DAYLIGHT
TZOFFSETFROM:+0200
TZOFFSETTO:+0300
TZNAME:EEST
DTSTART:20250330T010000
END:DAYLIGHT
BEGIN:STANDARD
TZOFFSETFROM:+0300
TZOFFSETTO:+0200
TZNAME:EET
DTSTART:20251026T010000
END:STANDARD
BEGIN:DAYLIGHT
TZOFFSETFROM:+0200
TZOFFSETTO:+0300
TZNAME:EEST
DTSTART:20260329T010000
END:DAYLIGHT
BEGIN:STANDARD
TZOFFSETFROM:+0300
TZOFFSETTO:+0200
TZNAME:EET
DTSTART:20261025T010000
END:STANDARD
BEGIN:DAYLIGHT
TZOFFSETFROM:+0200
TZOFFSETTO:+0300
TZNAME:EEST
DTSTART:20270328T010000
END:DAYLIGHT
BEGIN:STANDARD
TZOFFSETFROM:+0300
TZOFFSETTO:+0200
TZNAME:EET
DTSTART:20271031T010000
END:STANDARD
END:VTIMEZONE
BEGIN:VEVENT
DTSTART;TZID=Europe/Tallinn:20260827T080000
DTEND;TZID=Europe/Tallinn:20260828T170000
DTSTAMP:20260426T050138
CREATED:20260414T113411Z
LAST-MODIFIED:20260414T113411Z
UID:9654-1787817600-1787936400@vinnivald.ee
SUMMARY:Pajusti klubis valla lasteaiatöötajate koolituspäevad
DESCRIPTION:
URL:https://vinnivald.ee/sundmus/pajusti-klubis-valla-lasteaiatootajate-koolituspaevad/
LOCATION:Pajusti Klubi\, Tartu mnt 11\, Pajusti\, Lääne-Virumaa\, 46603\, Estonia
END:VEVENT
END:VCALENDAR