BEGIN:VCALENDAR
VERSION:2.0
PRODID:-//Vinni vald - ECPv6.15.20//NONSGML v1.0//EN
CALSCALE:GREGORIAN
METHOD:PUBLISH
X-ORIGINAL-URL:https://vinnivald.ee
X-WR-CALDESC:Events for Vinni vald
REFRESH-INTERVAL;VALUE=DURATION:PT1H
X-Robots-Tag:noindex
X-PUBLISHED-TTL:PT1H
BEGIN:VTIMEZONE
TZID:Europe/Tallinn
BEGIN:DAYLIGHT
TZOFFSETFROM:+0200
TZOFFSETTO:+0300
TZNAME:EEST
DTSTART:20240331T010000
END:DAYLIGHT
BEGIN:STANDARD
TZOFFSETFROM:+0300
TZOFFSETTO:+0200
TZNAME:EET
DTSTART:20241027T010000
END:STANDARD
BEGIN:DAYLIGHT
TZOFFSETFROM:+0200
TZOFFSETTO:+0300
TZNAME:EEST
DTSTART:20250330T010000
END:DAYLIGHT
BEGIN:STANDARD
TZOFFSETFROM:+0300
TZOFFSETTO:+0200
TZNAME:EET
DTSTART:20251026T010000
END:STANDARD
BEGIN:DAYLIGHT
TZOFFSETFROM:+0200
TZOFFSETTO:+0300
TZNAME:EEST
DTSTART:20260329T010000
END:DAYLIGHT
BEGIN:STANDARD
TZOFFSETFROM:+0300
TZOFFSETTO:+0200
TZNAME:EET
DTSTART:20261025T010000
END:STANDARD
END:VTIMEZONE
BEGIN:VEVENT
DTSTART;TZID=Europe/Tallinn:20250402T190000
DTEND;TZID=Europe/Tallinn:20250402T210000
DTSTAMP:20260423T135148
CREATED:20250317T111033Z
LAST-MODIFIED:20250317T111033Z
UID:6517-1743620400-1743627600@vinnivald.ee
SUMMARY:Rakvere Teater "Ettevaatust\, õnn!"
DESCRIPTION:Ettevaatust\, õnn!\n\n\n\n\n\nTapvalt naljakas komöödia\n\nLondoni abielupaarile kutsub end ise külla puhkusel kohatud sõbralik\, kuid pealetükkiv ameerika leskproua. Paraku tuleb neil alles soovimatu külalise päralejõudmisel pähe viimase tausta guugeldada. Selgub\, et too ei pruugi sugugi olla lihtsalt tüütus\, nagu seni arvatud\, vaid midagi hoopis ohtlikumat. Algab pöörane laveerimine ellujäämise ja välise viisakuse nimel.\n\nTuntud briti telestsenaristi („Sherlock”) esimene näidend järgib inglise huumori kõrge kullaprooviga tavasid\, aga esitab ka poliitilise väljakutse vanameelsetele ühiskondlikele jõududele.\n\nEsietendus 22. septembril 2023 Rakvere Teatri suures majas.\nEtendus on kahes vaatuses ning kestab 2 tundi.\n\nAnneli Rahkema pälvis 2024. aastal parima naisnäitleja kolleegipreemia.\nMärten Matsu pälvis 2024. aastal parima meesnäitleja kolleegipreemia.\n\n\n\nPileti hind 24 eur/ 21eur\, kaduviku kaardiga 19.50 eur.Osta pilet :\nPILETIMAAILM: https://www.piletimaailm.com/performances/141102/buy…\nPILETILEVI:https://www.piletilevi.ee/…/teater/ettevaatust-onn-450153/\nAvatud on kohvik/baar!Info telefonil: 51987006\, Laekvere Rahvamaja
URL:https://vinnivald.ee/sundmus/rakvere-teater-ettevaatust-onn/
LOCATION:Laekvere Rahvamaja\, Kesk 12\, Laekvere alevik 46501\, Lääne-Virumaa\, 46501\, Estonia
END:VEVENT
END:VCALENDAR