BEGIN:VCALENDAR
VERSION:2.0
PRODID:-//Vinni vald - ECPv6.15.20//NONSGML v1.0//EN
CALSCALE:GREGORIAN
METHOD:PUBLISH
X-WR-CALNAME:Vinni vald
X-ORIGINAL-URL:https://vinnivald.ee
X-WR-CALDESC:Events for Vinni vald
REFRESH-INTERVAL;VALUE=DURATION:PT1H
X-Robots-Tag:noindex
X-PUBLISHED-TTL:PT1H
BEGIN:VTIMEZONE
TZID:Europe/Tallinn
BEGIN:DAYLIGHT
TZOFFSETFROM:+0200
TZOFFSETTO:+0300
TZNAME:EEST
DTSTART:20240331T010000
END:DAYLIGHT
BEGIN:STANDARD
TZOFFSETFROM:+0300
TZOFFSETTO:+0200
TZNAME:EET
DTSTART:20241027T010000
END:STANDARD
BEGIN:DAYLIGHT
TZOFFSETFROM:+0200
TZOFFSETTO:+0300
TZNAME:EEST
DTSTART:20250330T010000
END:DAYLIGHT
BEGIN:STANDARD
TZOFFSETFROM:+0300
TZOFFSETTO:+0200
TZNAME:EET
DTSTART:20251026T010000
END:STANDARD
BEGIN:DAYLIGHT
TZOFFSETFROM:+0200
TZOFFSETTO:+0300
TZNAME:EEST
DTSTART:20260329T010000
END:DAYLIGHT
BEGIN:STANDARD
TZOFFSETFROM:+0300
TZOFFSETTO:+0200
TZNAME:EET
DTSTART:20261025T010000
END:STANDARD
END:VTIMEZONE
BEGIN:VEVENT
DTSTART;TZID=Europe/Tallinn:20250323T120000
DTEND;TZID=Europe/Tallinn:20250323T150000
DTSTAMP:20260423T133202
CREATED:20250317T110208Z
LAST-MODIFIED:20250317T110229Z
UID:6508-1742731200-1742742000@vinnivald.ee
SUMMARY:Pühapäeva kohvilõuna
DESCRIPTION:Külas on harrastusornitoloog Peep Veedla\nKohv ja tee maja poolt. Kohvi kõrvale võta ise meelepärast lauale kaasa.
URL:https://vinnivald.ee/sundmus/puhapaeva-kohvilouna-2/
LOCATION:Laekvere Rahvamaja\, Kesk 12\, Laekvere alevik 46501\, Lääne-Virumaa\, 46501\, Estonia
END:VEVENT
BEGIN:VEVENT
DTSTART;TZID=Europe/Tallinn:20250323T150000
DTEND;TZID=Europe/Tallinn:20250323T170000
DTSTAMP:20260423T133202
CREATED:20250317T110526Z
LAST-MODIFIED:20250317T110526Z
UID:6514-1742742000-1742749200@vinnivald.ee
SUMMARY:Mironof kogupere show "Tsirkus kohvris"
DESCRIPTION:Meelelahutust pakuvad hea tuju meister Alex\, seebimulliprintsess Katarina ja nutikas koer Justas\, kes kutsuvad kõiki endaga koos parimat tsirkuseshowd tegema!\nLõbus etendus kohvris on vaatemäng igale eale\, mille kavas on  ️️seebimullitrikid; ️️žongleerimine; ️️mustkunstimaagia; koerte vabastiil;\nKutsu kaasa kõik sugulased\, tuttavad\, sõbrad ja veedame koos lõbusalt aega!Programm on kõikidele huvilistele tasuta.Kohal on ka SNÄKIBAAR -selleks haara kaasa sularaha
URL:https://vinnivald.ee/sundmus/mironof-kogupere-show-tsirkus-kohvris/
LOCATION:Laekvere Rahvamaja\, Kesk 12\, Laekvere alevik 46501\, Lääne-Virumaa\, 46501\, Estonia
END:VEVENT
END:VCALENDAR