BEGIN:VCALENDAR
VERSION:2.0
PRODID:-//Vinni vald - ECPv6.15.20//NONSGML v1.0//EN
CALSCALE:GREGORIAN
METHOD:PUBLISH
X-WR-CALNAME:Vinni vald
X-ORIGINAL-URL:https://vinnivald.ee
X-WR-CALDESC:Events for Vinni vald
REFRESH-INTERVAL;VALUE=DURATION:PT1H
X-Robots-Tag:noindex
X-PUBLISHED-TTL:PT1H
BEGIN:VTIMEZONE
TZID:Europe/Tallinn
BEGIN:DAYLIGHT
TZOFFSETFROM:+0200
TZOFFSETTO:+0300
TZNAME:EEST
DTSTART:20240331T010000
END:DAYLIGHT
BEGIN:STANDARD
TZOFFSETFROM:+0300
TZOFFSETTO:+0200
TZNAME:EET
DTSTART:20241027T010000
END:STANDARD
BEGIN:DAYLIGHT
TZOFFSETFROM:+0200
TZOFFSETTO:+0300
TZNAME:EEST
DTSTART:20250330T010000
END:DAYLIGHT
BEGIN:STANDARD
TZOFFSETFROM:+0300
TZOFFSETTO:+0200
TZNAME:EET
DTSTART:20251026T010000
END:STANDARD
BEGIN:DAYLIGHT
TZOFFSETFROM:+0200
TZOFFSETTO:+0300
TZNAME:EEST
DTSTART:20260329T010000
END:DAYLIGHT
BEGIN:STANDARD
TZOFFSETFROM:+0300
TZOFFSETTO:+0200
TZNAME:EET
DTSTART:20261025T010000
END:STANDARD
END:VTIMEZONE
BEGIN:VEVENT
DTSTART;TZID=Europe/Tallinn:20250318T130000
DTEND;TZID=Europe/Tallinn:20250318T160000
DTSTAMP:20260423T204019
CREATED:20250317T095920Z
LAST-MODIFIED:20250317T095920Z
UID:6497-1742302800-1742313600@vinnivald.ee
SUMMARY:Pensionäride klubi Mõttelõng
DESCRIPTION:Vastlateemaline kohtumine.
URL:https://vinnivald.ee/sundmus/pensionaride-klubi-mottelong/
LOCATION:Pajusti Klubi\, Tartu mnt 11\, Pajusti\, Lääne-Virumaa\, 46603\, Estonia
END:VEVENT
BEGIN:VEVENT
DTSTART;TZID=Europe/Tallinn:20250318T180000
DTEND;TZID=Europe/Tallinn:20250318T193000
DTSTAMP:20260423T204019
CREATED:20250317T113008Z
LAST-MODIFIED:20250317T113008Z
UID:6539-1742320800-1742326200@vinnivald.ee
SUMMARY:Lauamängude õhtu
DESCRIPTION:
URL:https://vinnivald.ee/sundmus/lauamangude-ohtu/
LOCATION:Muuga raamatukogu\, Alekvere tee 1\, Muuga küla\, Vinni vald\, Estonia
END:VEVENT
BEGIN:VEVENT
DTSTART;TZID=Europe/Tallinn:20250318T193000
DTEND;TZID=Europe/Tallinn:20250318T210000
DTSTAMP:20260423T204019
CREATED:20250317T113259Z
LAST-MODIFIED:20250317T113349Z
UID:6544-1742326200-1742331600@vinnivald.ee
SUMMARY:Reisimuljeid Dominikaanist
DESCRIPTION:Reisimuljeid Dominikaanist jagab Arne Labe.
URL:https://vinnivald.ee/sundmus/reisimuljeid-dominikaanist/
LOCATION:Muuga raamatukogu\, Alekvere tee 1\, Muuga küla\, Vinni vald\, Estonia
END:VEVENT
END:VCALENDAR